View In:
ArcGIS JavaScript
ArcGIS Online Map Viewer
ArcGIS Earth
ArcMap
View Footprint In:
ArcGIS Online Map Viewer
Service Description: Imagery/BotanicBasemap
Name: Imagery/BotanicBasemap
Description:
Single Fused Map Cache: false
Extent:
XMin: -1.1892225190212071E7
YMin: 4934276.469555696
XMax: -1.189204360662084E7
YMax: 4934559.957197593
Spatial Reference: 102100
(3857)
Initial Extent:
XMin: -1.1892225190212071E7
YMin: 4934276.469555696
XMax: -1.189204360662084E7
YMax: 4934559.957197593
Spatial Reference: 102100
(3857)
Full Extent:
XMin: -1.1892225190212071E7
YMin: 4934276.469555696
XMax: -1.189204360662084E7
YMax: 4934559.957197593
Spatial Reference: 102100
(3857)
Pixel Size X: 0.10087977290567425
Pixel Size Y: 0.10499542292483427
Band Count: 3
Pixel Type: U8
RasterFunction Infos: {"rasterFunctionInfos": [{
"name": "None",
"description": "",
"help": ""
}]}
Mensuration Capabilities: Basic
Has Histograms: true
Has Colormap: false
Has Multi Dimensions : false
Rendering Rule:
Min Scale: 0
Max Scale: 0
Copyright Text:
Service Data Type: esriImageServiceDataTypeRGB
Min Values: 0, 0, 0
Max Values: 255, 255, 255
Mean Values: 183.35634156379, 192.19263312757, 175.80573004115
Standard Deviation Values: 82.723947930917, 77.886194266672, 83.496228281847
Object ID Field:
Fields:
None
Default Mosaic Method: Center
Allowed Mosaic Methods:
SortField:
SortValue: null
Mosaic Operator: First
Default Compression Quality: 75
Default Resampling Method: Bilinear
Max Record Count: null
Max Image Height: 4100
Max Image Width: 15000
Max Download Image Count: null
Max Mosaic Image Count: null
Allow Raster Function: true
Allow Copy: true
Allow Analysis: true
Allow Compute TiePoints: false
Supports Statistics: false
Supports Advanced Queries: false
Use StandardizedQueries: true
Raster Type Infos:
Name: Raster Dataset
Description: Supports all ArcGIS Raster Datasets
Help:
Has Raster Attribute Table: false
Edit Fields Info: null
Ownership Based AccessControl For Rasters: null
Child Resources:
Info
Histograms
Statistics
Key Properties
Legend
Raster Function Infos
Supported Operations:
Export Image
Identify
Measure
Compute Histograms
Compute Statistics Histograms
Get Samples
Compute Class Statistics
Query Boundary
Compute Pixel Location
Compute Angles
Validate
Project